BEGIN:VCALENDAR
VERSION:2.0
PRODID:-//Wild and Grounded - ECPv6.15.16//NONSGML v1.0//EN
CALSCALE:GREGORIAN
METHOD:PUBLISH
X-ORIGINAL-URL:https://wildandgrounded.be
X-WR-CALDESC:Events voor Wild and Grounded
REFRESH-INTERVAL;VALUE=DURATION:PT1H
X-Robots-Tag:noindex
X-PUBLISHED-TTL:PT1H
BEGIN:VTIMEZONE
TZID:Europe/Brussels
BEGIN:DAYLIGHT
TZOFFSETFROM:+0100
TZOFFSETTO:+0200
TZNAME:CEST
DTSTART:20250330T010000
END:DAYLIGHT
BEGIN:STANDARD
TZOFFSETFROM:+0200
TZOFFSETTO:+0100
TZNAME:CET
DTSTART:20251026T010000
END:STANDARD
BEGIN:DAYLIGHT
TZOFFSETFROM:+0100
TZOFFSETTO:+0200
TZNAME:CEST
DTSTART:20260329T010000
END:DAYLIGHT
BEGIN:STANDARD
TZOFFSETFROM:+0200
TZOFFSETTO:+0100
TZNAME:CET
DTSTART:20261025T010000
END:STANDARD
BEGIN:DAYLIGHT
TZOFFSETFROM:+0100
TZOFFSETTO:+0200
TZNAME:CEST
DTSTART:20270328T010000
END:DAYLIGHT
BEGIN:STANDARD
TZOFFSETFROM:+0200
TZOFFSETTO:+0100
TZNAME:CET
DTSTART:20271031T010000
END:STANDARD
END:VTIMEZONE
BEGIN:VEVENT
DTSTART;TZID=Europe/Brussels:20260620T160000
DTEND;TZID=Europe/Brussels:20260620T173000
DTSTAMP:20260421T010401
CREATED:20251029T201058Z
LAST-MODIFIED:20260327T195937Z
UID:1245-1781971200-1781976600@wildandgrounded.be
SUMMARY:Ademcirkel Mas\, museum aan de Stroom
DESCRIPTION:Ademcirkel Mas\n			\n				Inschrijven\n			\n			\n				\n				\n				\n				\n			\n				\n				\n			\n				\n				\n				\n				\n				\n				\n				\n				\n				\n				\n				\n				\n				\n				\n				\n				\n				\n				Ademcirkel- Museum aan de stroom- Martial arts tentoonstelling\, inclusief ticket voor museum  \nIn een ademcirkel kan je de kracht van adem ontdekken en ook ervaren hoe het is om dit bewust en in groep te doen. Uit je hoofd\, in je lijf. Niets anders dan je adem brengt je zo snel terug naar jezelf. De dynamiek van ademen in groep werkt verbindend en is heel krachtig in dit proces. maar je maakt ook je eigen unieke ademreis.  \nWe maken gebruik van lichaamswerk en de kracht van verbonden ademhaling. Afsluiten doen we met een lekker kopje thee en een deelmoment.  \nDeze ademcirkel heeft als thema de volle maan energie: ontwaken en vernieuwen. Het is een moment om te onderzoeken wat er in je leven tot bloei mag komen \nWil je er graag bij zijn? Schrijf je dan in via onderstaand link.  \n			\n			\n				\n				\n				\n				\n			\n				\n				\n				\n				\n				\n				\n				\n				\n				\n				\n				\n			\n			\n				\n				\n				\n				\n				\n				\n				\n				\n				\n				Tickets?\n			\n				\n				\n				\n				\n				 Wil je er graag bij zijn? Schrijf je dan in via onderstaand link.  \nhttps://mas.be/nl/activiteit/ademcirkels \n			\n				\n				\n				\n				\n				\n			\n				\n				\n				\n				\n				\n			\n				Ik doe mee\n			\n			\n				\n				\n				\n				\n			\n				\n				\n				\n				\n				\n				\n				\n				\n				\n				\n				Praktische info\n			\n				\n				\n				\n				\n				 🕥 Tijd: 16u – 18u30📍 Locatie: Mas box Antwerpen💶 Prijs: € 36 pp inclusief museum ticket👥 Max 20 deelnemers
URL:https://wildandgrounded.be/workshops/https-mas-be-nl-activiteit-ademcirkels/
LOCATION:Mas Antwerpen\, Hansestedeplaats 1\, Antwerpen\, België\, 2000\, Belgium
END:VEVENT
END:VCALENDAR