BEGIN:VCALENDAR
VERSION:2.0
PRODID:-//Wild and Grounded - ECPv6.15.16//NONSGML v1.0//EN
CALSCALE:GREGORIAN
METHOD:PUBLISH
X-WR-CALNAME:Wild and Grounded
X-ORIGINAL-URL:https://wildandgrounded.be
X-WR-CALDESC:Events voor Wild and Grounded
REFRESH-INTERVAL;VALUE=DURATION:PT1H
X-Robots-Tag:noindex
X-PUBLISHED-TTL:PT1H
BEGIN:VTIMEZONE
TZID:Europe/Brussels
BEGIN:DAYLIGHT
TZOFFSETFROM:+0100
TZOFFSETTO:+0200
TZNAME:CEST
DTSTART:20250330T010000
END:DAYLIGHT
BEGIN:STANDARD
TZOFFSETFROM:+0200
TZOFFSETTO:+0100
TZNAME:CET
DTSTART:20251026T010000
END:STANDARD
BEGIN:DAYLIGHT
TZOFFSETFROM:+0100
TZOFFSETTO:+0200
TZNAME:CEST
DTSTART:20260329T010000
END:DAYLIGHT
BEGIN:STANDARD
TZOFFSETFROM:+0200
TZOFFSETTO:+0100
TZNAME:CET
DTSTART:20261025T010000
END:STANDARD
BEGIN:DAYLIGHT
TZOFFSETFROM:+0100
TZOFFSETTO:+0200
TZNAME:CEST
DTSTART:20270328T010000
END:DAYLIGHT
BEGIN:STANDARD
TZOFFSETFROM:+0200
TZOFFSETTO:+0100
TZNAME:CET
DTSTART:20271031T010000
END:STANDARD
END:VTIMEZONE
BEGIN:VEVENT
DTSTART;TZID=Europe/Brussels:20260329T093000
DTEND;TZID=Europe/Brussels:20260329T140000
DTSTAMP:20260420T232503
CREATED:20260307T171150Z
LAST-MODIFIED:20260320T160959Z
UID:1644-1774776600-1774792800@wildandgrounded.be
SUMMARY:Kookworkshop Lentekracht - lever en galblaas
DESCRIPTION:Kookworkshop Lente\n			\n				Inschrijven\n			\n			\n				\n				\n				\n				\n			\n				\n				\n			\n				\n				\n				\n				\n				\n				\n				\n				\n				\n				\n				\n				\n				\n				\n				\n				\n				\n				Kookworkshop Lente kracht! -Lever galblaas energie \n Hop! Je voelt het al\, we zijn eindelijk terug in dat tussenseizoen terecht gekomen. De dagen worden terug langer en aan de bomen hangen de eerste katjes en ook de magnolia staat in bloei. Alles schiet naar boven en als je een paar dagen niet alert was zie je ineens knopjes op die takken waar je dagelijks voorbij loopt.  \nDe lente is het eerste yange seizoen van het jaar waarin we net als de natuur opnieuw die beweging voelen om naar buiten te bewegen en in actie te komen. Voel je nog niet die beweging maar eerder ergernis en vermoeidheid dan kan het zijn dat er nog wat stagnatie in je lichaam zit en dat je je lichaam een handje dient te helpen om die beweging te maken.  \nDe lever en galblaas zijn in dit seizoen extra actief en zorgen voor die opgaande beweging.  \nEn het leuke is dat je heel het jaar door deze kookworkshop kan in zetten om die vrije stroom van je lever terug op gang te brengen. De lever is namelijk met zijn 500 functies in ons lichaam\, één van de belangrijkste organen voor een gezond en gebalanceerd lichaam.  \nHeb je zin om je energiek te voelen?  \nHeb je soms last van frustratie en boosheid en wil je manieren om die onder controle te krijgen?  \nDraag je sinds kort een leesbril en heb je daar geen zin in?  \nAllemaal redenen om je te verdiepen in deze razend interessante materie.  \n  \n			\n			\n				\n				\n				\n				\n			\n				\n				\n				\n				\n				\n				\n				\n				\n				\n				\n				\n			\n			\n				\n				\n				\n				\n				\n				\n				\n				\n				\n				Wat gaan we doen?\n			\n				\n				\n				\n				\n				✨ pekelen & inmaken✨ gerechten maken die je klaar maken die je lever zachtjes detoxen. Die je terug actief en fit maken na een lang yin seizoen. ✨ tools leren om je gezond door de lente dragen \n			\n				\n				\n				\n				\n				Wat je krijgt:\n			\n				\n				\n				\n				\n				🍀 Hapjes & drankjes tijdens de workshop🍀 Lunch met voorgerecht\, hoofdgerecht & dessert🍀 Bundel met recepten + kennis over balans koken \n			\n				Ik doe mee\n			\n			\n				\n				\n				\n				\n			\n				\n				\n				\n				\n				\n				\n				\n				\n				\n				\n				Praktische info\n			\n				\n				\n				\n				\n				🕥 Tijd: 09u30 – 14u00📍 Locatie: Bourgoyen\, Gent💶 Prijs: € 90 pp👥 Max 8 deelnemers
URL:https://wildandgrounded.be/workshops/kookworkshop-lentekracht/
LOCATION:Villa Moyersoen Bourgoyen\, Mariakerke (Gent)\, 9030\, Belgium
END:VEVENT
END:VCALENDAR